Workbook

Sheet TAB 1 per 1 curva
A1: ATTENZIONE: LEGGI QUI ISTRUZIONI PER LA COMPILAZIONE:
A2: - se hai più di una curva, cerca in un altro foglio (in basso, sotto la barra di scorrimento orizzontale)
A3: - compilare solo le caselle grigie
A4: - inserire le coordinate con 4 cifre decimali
A5: - controllare la corrispondenza tra le celle in verde e il tuo disegno
A7: PROGETTO STRADALE TABELLA 1: DATI TRACCIATO
A8: POLIGONALE D'ASSE | F8: CURVE | J8: ASSE STRADALE
A9: VERTICI | B9: COORDINATE | D9: LUNGHEZZA LATI | E9: ANGOLO AL VERTICE | F9: RAGGIO | G9: ANGOLO AL CENTRO | H9: TANGENTE | I9: SVILUPPO | J9: PUNTI | K9: LUNGHEZZA [m] | L9: QUOTA [m] | M9: PENDENZA [%] | N9: DISTANZE PROGRESSIVE [m]
B10: E [m] | C10: N [m] | D10: L [m] | E10: w [gon] | F10: R [m] | G10: a [gon] | H10: t [m] | I10: l [m]
A11: A | B11: 1687608 | C11: 4850176 | J11: A | L11: 108 | N11: 0
D13: =SQRT((B11-B17)^2+(C17-C11)^2) -> 143.40502 | K13: =D13-H17 -> -184.32597 | M13: =(L15-L11)/K13 -> -0.010850343
J15: T1 | L15: 110 | N15: =K13 -> -184.32597
A17: V1 | B17: 1687722 | C17: 4850263 | E17: =(ACOS((D13^2+D21^2-(SQRT((B24-B11)^2+(C24-C11)^2))^2)/(2*D13*D21)))*200/PI() -> 17.373922 | F17: 45 | G17: =200-E17 -> 182.62608 | H17: =F17/TAN((E17)*PI()/200/2) -> 327.73099 | I17: =F17*G17/200*PI() -> 129.09077 | K17: =I17 -> 129.09077 | M17: =(L19-L15)/K17 -> 0.041753567
J19: T2 | L19: 115.39 | N19: =N15+K17 -> -55.235199
D21: =SQRT((B17-B24)^2+(C24-C17)^2) -> 1067.8006 | K21: =D21-H17 -> 740.06966 | M21: =(L24-L19)/K21 -> 0.018390161
A24: B | B24: 1686730 | C24: 4849868 | J24: B | L24: 129 | N24: =N19+K21 -> 684.83446
A28: FORMULE:
A37: ISTRUZIONI PER LA COMPILAZIONE:
A38: compilare solo le caselle grigie
A39: inserire le coordinate con 4 cifre decimali
A40: se i dati ottenuti non sono compatibili con quanto riportato nel disegno, controllare la perpendicolarità dei raggi rispetto ai lati della poligonale d'asse

Sheet TAB 1 per 2 curve
A1: ATTENZIONE: LEGGI QUI ISTRUZIONI PER LA COMPILAZIONE:
A2: - se non hai due curve, cerca in un altro foglio (in basso, sotto la barra di scorrimento orizzontale)
A3: - compilare solo le caselle grigie
A4: - inserire le coordinate con 4 cifre decimali
A5: - controllare la corrispondenza tra le celle in verde e il tuo disegno
A6: PROGETTO STRADALE TABELLA 1: DATI TRACCIATO
A7: POLIGONALE D'ASSE | F7: CURVE | J7: ASSE STRADALE
A8: VERTICI | B8: COORDINATE | D8: LUNGHEZZA LATI | E8: ANGOLO AL VERTICE | F8: RAGGIO | G8: ANGOLO AL CENTRO | H8: TANGENTE | I8: SVILUPPO | J8: PUNTI | K8: LUNGHEZZA [m] | L8: QUOTA [m] | M8: PENDENZA [%] | N8: DISTANZE PROGRESSIVE [m]
B9: E [m] | C9: N [m] | D9: L [m] | E9: w [gon] | F9: R [m] | G9: a [gon] | H9: t [m] | I9: l [m]
A10: A | B10: 1687608 | C10: 4850176 | J10: A | L10: 108 | N10: 0
D12: =SQRT((B10-B16)^2+(C16-C10)^2) -> 143.40502 | K12: =D12-H16 -> 87.81651 | M12: =(L14-L10)/K12 -> 0.022774761
J14: T1 | L14: 110 | N14: =K12 -> 87.81651
A16: V1 | B16: 1687722 | C16: 4850263 | E16: =(ACOS((D12^2+D20^2-(SQRT((B24-B10)^2+(C24-C10)^2))^2)/(2*D12*D20)))*200/PI() -> 86.646345 | F16: 45 | G16: =200-E16 -> 113.35366 | H16: =F16/TAN((E16)*PI()/200/2) -> 55.588511 | I16: =F16*G16/200*PI() -> 80.124977 | K16: =I16 -> 80.124977 | M16: =(L18-L14)/K16 -> 0.06726991
J18: T2 | L18: 115.39 | N18: =N14+K16 -> 167.94149
D20: =SQRT((B16-B24)^2+(C24-C16)^2) -> 144.91131 | K20: =D20-H16-H24 -> -106.75613 | M20: =(L22-L18)/K20 -> -0.0057139577
J22: T3 | L22: 116 | N22: =N18+K20 -> 61.18536
A24: V2 | B24: 1687784 | C24: 4850132 | E24: =(ACOS((D20^2+D28^2-(SQRT((B30-B16)^2+(C30-C16)^2))^2)/(2*D20*D28)))*200/PI() -> 87.481443 | F24: 160.87 | G24: =200-E24 -> 112.51856 | H24: =F24/TAN((E24)*PI()/200/2) -> 196.07893 | I24: =F24*G24/200*PI() -> 284.32765 | K24: =I24 -> 284.32765 | M24: =(L26-L22)/K24 -> 0.011641499
J26: T4 | L26: 119.31 | N26: =N22+K24 -> 345.51301
D28: =SQRT((B24-B30)^2+(C30-C24)^2) -> 1086.613 | K28: =D28-H24 -> 890.53406 | M28: =(L30-L26)/K28 -> 0.010881111
A30: B | B30: 1686730 | C30: 4849868 | J30: B | L30: 129 | N30: =N26+K28 -> 1236.0471
A34: FORMULE:
A43: ISTRUZIONI PER LA COMPILAZIONE:
A44: compilare solo le caselle grigie
A45: inserire le coordinate con 4 cifre decimali
A46: se i dati ottenuti non sono compatibili con quanto riportato nel disegno, controllare la perpendicolarità dei raggi rispetto ai lati della poligonale d'asse

Sheet TAB 1 per 3 curve
A1: ATTENZIONE: LEGGI QUI ISTRUZIONI PER LA COMPILAZIONE:
A2: - se non hai tre curve, cerca in un altro foglio (in basso, sotto la barra di scorrimento orizzontale)
A3: - compilare solo le caselle grigie
A4: - inserire le coordinate con 4 cifre decimali
A5: - controllare la corrispondenza tra le celle in verde e il tuo disegno
A7: PROGETTO STRADALE TABELLA 1: DATI TRACCIATO
A8: POLIGONALE D'ASSE | F8: CURVE | J8: ASSE STRADALE
A9: VERTICI | B9: COORDINATE | D9: LUNGHEZZA LATI | E9: ANGOLO AL VERTICE | F9: RAGGIO | G9: ANGOLO AL CENTRO | H9: TANGENTE | I9: SVILUPPO | J9: PUNTI | K9: LUNGHEZZA [m] | L9: QUOTA [m] | M9: PENDENZA [%] | N9: DISTANZE PROGRESSIVE [m]
B10: E [m] | C10: N [m] | D10: L [m] | E10: w [gon] | F10: R [m] | G10: a [gon] | H10: t [m] | I10: l [m]
A11: A | B11: 1687608 | C11: 4850176 | J11: A | L11: 108 | N11: 0
D13: =SQRT((B11-B17)^2+(C17-C11)^2) -> 143.40502 | K13: =D13-H17 -> 87.81651 | M13: =(L15-L11)/K13 -> 0.022774761
J15: T1 | L15: 110 | N15: =K13 -> 87.81651
A17: V1 | B17: 1687722 | C17: 4850263 | E17: =(ACOS((D13^2+D21^2-(SQRT((B25-B11)^2+(C25-C11)^2))^2)/(2*D13*D21)))*200/PI() -> 86.646345 | F17: 45 | G17: =200-E17 -> 113.35366 | H17: =F17/TAN((E17)*PI()/200/2) -> 55.588511 | I17: =F17*G17/200*PI() -> 80.124977 | K17: =I17 -> 80.124977 | M17: =(L19-L15)/K17 -> 0.06726991
J19: T2 | L19: 115.39 | N19: =N15+K17 -> 167.94149
D21: =SQRT((B17-B25)^2+(C25-C17)^2) -> 144.91131 | K21: =D21-H17-H25 -> 67.723612 | M21: =(L23-L19)/K21 -> 0.0090071983
J23: T3 | L23: 116 | N23: =N19+K21 -> 235.6651
A25: V2 | B25: 1687784 | C25: 4850132 | E25: =(ACOS((D21^2+D29^2-(SQRT((B33-B17)^2+(C33-C17)^2))^2)/(2*D21*D29)))*200/PI() -> 183.00649 | F25: 160.87 | G25: =200-E25 -> 16.993508 | H25: =F25/TAN((E25)*PI()/200/2) -> 21.599191 | I25: =F25*G25/200*PI() -> 42.941575 | K25: =I25 -> 42.941575 | M25: =(L27-L23)/K25 -> 0.077081477
J27: T4 | L27: 119.31 | N27: =N23+K25 -> 278.60667
D29: =SQRT((B25-B33)^2+(C33-C25)^2) -> 229.51253 | K29: =D29-H25-H33 -> 158.40869 | M29: =(L31-L27)/K29 -> 0.020895319
J31: T5 | L31: 122.62 | N31: =N27+K29 -> 437.01536
A33: V3 | B33: 1687824 | C33: 4849906 | E33: =(ACOS((D29^2+D37^2-(SQRT((B39-B25)^2+(C39-C25)^2))^2)/(2*D29*D37)))*200/PI() -> 91.061674 | F33: 43 | G33: =200-E33 -> 108.93833 | H33: =F33/TAN((E33)*PI()/200/2) -> 49.504649 | I33: =F33*G33/200*PI() -> 73.581566 | K33: =I33 -> 73.581566 | M33: =(L35-L31)/K33 -> 0.03166554
J35: T6 | L35: 124.95 | N35: =N31+K33 -> 510.59693
D37: =SQRT((B33-B39)^2+(C39-C33)^2) -> 1094.7018 | K37: =D37-H33 -> 1045.1972 | M37: =(L39-L35)/K37 -> 0.003874867
A39: B | B39: 1686730 | C39: 4849868 | J39: B | L39: 129 | N39: =N35+K37 -> 1555.7941
A43: FORMULE:
A52: ISTRUZIONI PER LA COMPILAZIONE:
A53: compilare solo le caselle grigie
A54: inserire le coordinate con 4 cifre decimali
A55: se i dati ottenuti non sono compatibili con quanto riportato nel disegno, controllare la perpendicolarità dei raggi rispetto ai lati della poligonale d'asse

Sheet TAB 2 e TAB 3
A1: ATTENZIONE: LEGGI QUI ISTRUZIONI PER LA COMPILAZIONE:
A2: 1) compilare solo le caselle grigie delle prime due colonne
A3: 2) controllare che le distanze parziali siano sotto 40m altrimenti hai perso un picchetto nella plan
A4: 3) controllare che ci siano tutte le quote pari intere, altrimenti hai perso un picchetto o sbagliato una quota
A5: 4) cancella le righe che non ti servono
A6: 5) compila la tabella 3 facendo attenzione alle distanze, e alle quote di inizio e fine strada che saranno uguali a inizio e fine terreno
A7: 6) trova il compenso (casella compenso sotto +-5 mq)
A8: 7) controlla le celle verdi
A9: 8) inserisci in tab 2 il numero di livelletta a cui appartiene il picchetto
A11: PROGETTO STRADALE TABELLA 2: DATI PROFILO LONGITUDINALE
A12: SEZ. | B12: DISTANZE PROGRESSIVE [m] | C12: QUOTA TERRENO [m] | D12: DISTANZE PARZIALI [m] | E12: AREA SOTTESA [m2] | F12: LIVELLETTA | G12: QUOTA DI PROGETTO [m] | H12: QUOTA ROSSA [m]
A14: 1 | B14: 0 | C14: 80 | F14: 1 | G14: =C14 -> 80 | H14: =G14-C14 -> 0
D15: =B16-B14 -> 25.67 | E15: =(C14+C16)*D15/2 -> 2079.27
A16: =A14+1 -> 2 | B16: 25.67 | C16: 82 | F16: 1 | G16: =IF(F16=$A$130,$C$130+B16*$G$130,IF(F16=$A$131,$C$131+(B16-$F$130)*$G$131,IF(F16=$A$132,$C$132+(B16-$F$130-$F$131)*$G$132,IF(F16=$A$133,$C$133+(B16-$F$130-$F$131-$F$132)*$G$133,IF(F16=$A$134,$C$134+(B16-$F$130-$F$131-$F$132-$F$133)*$G$134,IF(F16=$A$135,$C$135+(B16-$F$130-$F$131-$F$132-$F$133-$F$134)*$G$135,IF(F16=$A$136,$C$136+(B16-$F$130-$F$131-$F$132-$F$133-$F$134-$F$135)*$G$136,IF(F16=$A$137,$C$137+(B16-$F$130-$F$131-$F$132-$F$133-$F$134-$F$135-$F$136)*$G$137)))))))) -> 81.401507 | H16: =G16-C16 -> -0.59849312
D17: =B18-B16 -> 21.9 | E17: =(C16+C18)*D17/2 -> 1817.7
A18: =A16+1 -> 3 | B18: 47.57 | C18: 84 | F18: 1 | G18: =IF(F18=$A$130,$C$130+B18*$G$130,IF(F18=$A$131,$C$131+(B18-$F$130)*$G$131,IF(F18=$A$132,$C$132+(B18-$F$130-$F$131)*$G$132,IF(F18=$A$133,$C$133+(B18-$F$130-$F$131-$F$132)*$G$133,IF(F18=$A$134,$C$134+(B18-$F$130-$F$131-$F$132-$F$133)*$G$134,IF(F18=$A$135,$C$135+(B18-$F$130-$F$131-$F$132-$F$133-$F$134)*$G$135,IF(F18=$A$136,$C$136+(B18-$F$130-$F$131-$F$132-$F$133-$F$134-$F$135)*$G$136,IF(F18=$A$137,$C$137+(B18-$F$130-$F$131-$F$132-$F$133-$F$134-$F$135-$F$136)*$G$137)))))))) -> 82.597183 | H18: =G18-C18 -> -1.4028172
D19: =B20-B18 -> 20.95 | E19: =(C18+C20)*D19/2 -> 1780.75
A20: =A18+1 -> 4 | B20: 68.52 | C20: 86 | F20: 1 | G20: =IF(F20=$A$130,$C$130+B20*$G$130,IF(F20=$A$131,$C$131+(B20-$F$130)*$G$131,IF(F20=$A$132,$C$132+(B20-$F$130-$F$131)*$G$132,IF(F20=$A$133,$C$133+(B20-$F$130-$F$131-$F$132)*$G$133,IF(F20=$A$134,$C$134+(B20-$F$130-$F$131-$F$132-$F$133)*$G$134,IF(F20=$A$135,$C$135+(B20-$F$130-$F$131-$F$132-$F$133-$F$134)*$G$135,IF(F20=$A$136,$C$136+(B20-$F$130-$F$131-$F$132-$F$133-$F$134-$F$135)*$G$136,IF(F20=$A$137,$C$137+(B20-$F$130-$F$131-$F$132-$F$133-$F$134-$F$135-$F$136)*$G$137)))))))) -> 83.740991 | H20: =G20-C20 -> -2.2590085
D21: =B22-B20 -> 23.06 | E21: =(C20+C22)*D21/2 -> 2006.22
A22: =A20+1 -> 5 | B22: 91.58 | C22: 88 | F22: 1 | G22: =IF(F22=$A$130,$C$130+B22*$G$130,IF(F22=$A$131,$C$131+(B22-$F$130)*$G$131,IF(F22=$A$132,$C$132+(B22-$F$130-$F$131)*$G$132,IF(F22=$A$133,$C$133+(B22-$F$130-$F$131-$F$132)*$G$133,IF(F22=$A$134,$C$134+(B22-$F$130-$F$131-$F$132-$F$133)*$G$134,IF(F22=$A$135,$C$135+(B22-$F$130-$F$131-$F$132-$F$133-$F$134)*$G$135,IF(F22=$A$136,$C$136+(B22-$F$130-$F$131-$F$132-$F$133-$F$134-$F$135)*$G$136,IF(F22=$A$137,$C$137+(B22-$F$130-$F$131-$F$132-$F$133-$F$134-$F$135-$F$136)*$G$137)))))))) -> 85 | H22: =G22-C22 -> -3
D23: =B24-B22 -> -91.58 | E23: =(C22+C24)*D23/2 -> -4029.52
A24: =A22+1 -> 6 | F24: 1 | G24: =IF(F24=$A$130,$C$130+B24*$G$130,IF(F24=$A$131,$C$131+(B24-$F$130)*$G$131,IF(F24=$A$132,$C$132+(B24-$F$130-$F$131)*$G$132,IF(F24=$A$133,$C$133+(B24-$F$130-$F$131-$F$132)*$G$133,IF(F24=$A$134,$C$134+(B24-$F$130-$F$131-$F$132-$F$133)*$G$134,IF(F24=$A$135,$C$135+(B24-$F$130-$F$131-$F$132-$F$133-$F$134)*$G$135,IF(F24=$A$136,$C$136+(B24-$F$130-$F$131-$F$132-$F$133-$F$134-$F$135)*$G$136,IF(F24=$A$137,$C$137+(B24-$F$130-$F$131-$F$132-$F$133-$F$134-$F$135-$F$136)*$G$137)))))))) -> 80 | H24: =G24-C24 -> 80
D25: =B26-B24 -> 0 | E25: =(C24+C26)*D25/2 -> 0
A26: =A24+1 -> 7 | F26: 1 | G26: =IF(F26=$A$130,$C$130+B26*$G$130,IF(F26=$A$131,$C$131+(B26-$F$130)*$G$131,IF(F26=$A$132,$C$132+(B26-$F$130-$F$131)*$G$132,IF(F26=$A$133,$C$133+(B26-$F$130-$F$131-$F$132)*$G$133,IF(F26=$A$134,$C$134+(B26-$F$130-$F$131-$F$132-$F$133)*$G$134,IF(F26=$A$135,$C$135+(B26-$F$130-$F$131-$F$132-$F$133-$F$134)*$G$135,IF(F26=$A$136,$C$136+(B26-$F$130-$F$131-$F$132-$F$133-$F$134-$F$135)*$G$136,IF(F26=$A$137,$C$137+(B26-$F$130-$F$131-$F$132-$F$133-$F$134-$F$135-$F$136)*$G$137)))))))) -> 80 | H26: =G26-C26 -> 80
D27: =B28-B26 -> 0 | E27: =(C26+C28)*D27/2 -> 0
A28: =A26+1 -> 8 | F28: 1 | G28: =IF(F28=$A$130,$C$130+B28*$G$130,IF(F28=$A$131,$C$131+(B28-$F$130)*$G$131,IF(F28=$A$132,$C$132+(B28-$F$130-$F$131)*$G$132,IF(F28=$A$133,$C$133+(B28-$F$130-$F$131-$F$132)*$G$133,IF(F28=$A$134,$C$134+(B28-$F$130-$F$131-$F$132-$F$133)*$G$134,IF(F28=$A$135,$C$135+(B28-$F$130-$F$131-$F$132-$F$133-$F$134)*$G$135,IF(F28=$A$136,$C$136+(B28-$F$130-$F$131-$F$132-$F$133-$F$134-$F$135)*$G$136,IF(F28=$A$137,$C$137+(B28-$F$130-$F$131-$F$132-$F$133-$F$134-$F$135-$F$136)*$G$137)))))))) -> 80 | H28: =G28-C28 -> 80
D29: =B30-B28 -> 0 | E29: =(C28+C30)*D29/2 -> 0
A30: =A28+1 -> 9 | F30: 1 | G30: =IF(F30=$A$130,$C$130+B30*$G$130,IF(F30=$A$131,$C$131+(B30-$F$130)*$G$131,IF(F30=$A$132,$C$132+(B30-$F$130-$F$131)*$G$132,IF(F30=$A$133,$C$133+(B30-$F$130-$F$131-$F$132)*$G$133,IF(F30=$A$134,$C$134+(B30-$F$130-$F$131-$F$132-$F$133)*$G$134,IF(F30=$A$135,$C$135+(B30-$F$130-$F$131-$F$132-$F$133-$F$134)*$G$135,IF(F30=$A$136,$C$136+(B30-$F$130-$F$131-$F$132-$F$133-$F$134-$F$135)*$G$136,IF(F30=$A$137,$C$137+(B30-$F$130-$F$131-$F$132-$F$133-$F$134-$F$135-$F$136)*$G$137)))))))) -> 80 | H30: =G30-C30 -> 80
D31: =B32-B30 -> 0 | E31: =(C30+C32)*D31/2 -> 0
A32: =A30+1 -> 10 | F32: 1 | G32: =IF(F32=$A$130,$C$130+B32*$G$130,IF(F32=$A$131,$C$131+(B32-$F$130)*$G$131,IF(F32=$A$132,$C$132+(B32-$F$130-$F$131)*$G$132,IF(F32=$A$133,$C$133+(B32-$F$130-$F$131-$F$132)*$G$133,IF(F32=$A$134,$C$134+(B32-$F$130-$F$131-$F$132-$F$133)*$G$134,IF(F32=$A$135,$C$135+(B32-$F$130-$F$131-$F$132-$F$133-$F$134)*$G$135,IF(F32=$A$136,$C$136+(B32-$F$130-$F$131-$F$132-$F$133-$F$134-$F$135)*$G$136,IF(F32=$A$137,$C$137+(B32-$F$130-$F$131-$F$132-$F$133-$F$134-$F$135-$F$136)*$G$137)))))))) -> 80 | H32: =G32-C32 -> 80
D33: =B34-B32 -> 0 | E33: =(C32+C34)*D33/2 -> 0
A34: =A32+1 -> 11 | F34: 1 | G34: =IF(F34=$A$130,$C$130+B34*$G$130,IF(F34=$A$131,$C$131+(B34-$F$130)*$G$131,IF(F34=$A$132,$C$132+(B34-$F$130-$F$131)*$G$132,IF(F34=$A$133,$C$133+(B34-$F$130-$F$131-$F$132)*$G$133,IF(F34=$A$134,$C$134+(B34-$F$130-$F$131-$F$132-$F$133)*$G$134,IF(F34=$A$135,$C$135+(B34-$F$130-$F$131-$F$132-$F$133-$F$134)*$G$135,IF(F34=$A$136,$C$136+(B34-$F$130-$F$131-$F$132-$F$133-$F$134-$F$135)*$G$136,IF(F34=$A$137,$C$137+(B34-$F$130-$F$131-$F$132-$F$133-$F$134-$F$135-$F$136)*$G$137)))))))) -> 80 | H34: =G34-C34 -> 80
D35: =B36-B34 -> 0 | E35: =(C34+C36)*D35/2 -> 0
A36: =A34+1 -> 12 | G36: =IF(F36=$A$130,$C$130+B36*$G$130,IF(F36=$A$131,$C$131+(B36-$F$130)*$G$131,IF(F36=$A$132,$C$132+(B36-$F$130-$F$131)*$G$132,IF(F36=$A$133,$C$133+(B36-$F$130-$F$131-$F$132)*$G$133,IF(F36=$A$134,$C$134+(B36-$F$130-$F$131-$F$132-$F$133)*$G$134,IF(F36=$A$135,$C$135+(B36-$F$130-$F$131-$F$132-$F$133-$F$134)*$G$135,IF(F36=$A$136,$C$136+(B36-$F$130-$F$131-$F$132-$F$133-$F$134-$F$135)*$G$136,IF(F36=$A$137,$C$137+(B36-$F$130-$F$131-$F$132-$F$133-$F$134-$F$135-$F$136)*$G$137)))))))) -> FALSE | H36: =G36-C36 -> 0
D37: =B38-B36 -> 0 | E37: =(C36+C38)*D37/2 -> 0
A38: =A36+1 -> 13 | G38: =IF(F38=$A$130,$C$130+B38*$G$130,IF(F38=$A$131,$C$131+(B38-$F$130)*$G$131,IF(F38=$A$132,$C$132+(B38-$F$130-$F$131)*$G$132,IF(F38=$A$133,$C$133+(B38-$F$130-$F$131-$F$132)*$G$133,IF(F38=$A$134,$C$134+(B38-$F$130-$F$131-$F$132-$F$133)*$G$134,IF(F38=$A$135,$C$135+(B38-$F$130-$F$131-$F$132-$F$133-$F$134)*$G$135,IF(F38=$A$136,$C$136+(B38-$F$130-$F$131-$F$132-$F$133-$F$134-$F$135)*$G$136,IF(F38=$A$137,$C$137+(B38-$F$130-$F$131-$F$132-$F$133-$F$134-$F$135-$F$136)*$G$137)))))))) -> FALSE | H38: =G38-C38 -> 0
D39: =B40-B38 -> 0 | E39: =(C38+C40)*D39/2 -> 0
A40: =A38+1 -> 14 | G40: =IF(F40=$A$130,$C$130+B40*$G$130,IF(F40=$A$131,$C$131+(B40-$F$130)*$G$131,IF(F40=$A$132,$C$132+(B40-$F$130-$F$131)*$G$132,IF(F40=$A$133,$C$133+(B40-$F$130-$F$131-$F$132)*$G$133,IF(F40=$A$134,$C$134+(B40-$F$130-$F$131-$F$132-$F$133)*$G$134,IF(F40=$A$135,$C$135+(B40-$F$130-$F$131-$F$132-$F$133-$F$134)*$G$135,IF(F40=$A$136,$C$136+(B40-$F$130-$F$131-$F$132-$F$133-$F$134-$F$135)*$G$136,IF(F40=$A$137,$C$137+(B40-$F$130-$F$131-$F$132-$F$133-$F$134-$F$135-$F$136)*$G$137)))))))) -> FALSE | H40: =G40-C40 -> 0
D41: =B42-B40 -> 0 | E41: =(C40+C42)*D41/2 -> 0
A42: =A40+1 -> 15 | G42: =IF(F42=$A$130,$C$130+B42*$G$130,IF(F42=$A$131,$C$131+(B42-$F$130)*$G$131,IF(F42=$A$132,$C$132+(B42-$F$130-$F$131)*$G$132,IF(F42=$A$133,$C$133+(B42-$F$130-$F$131-$F$132)*$G$133,IF(F42=$A$134,$C$134+(B42-$F$130-$F$131-$F$132-$F$133)*$G$134,IF(F42=$A$135,$C$135+(B42-$F$130-$F$131-$F$132-$F$133-$F$134)*$G$135,IF(F42=$A$136,$C$136+(B42-$F$130-$F$131-$F$132-$F$133-$F$134-$F$135)*$G$136,IF(F42=$A$137,$C$137+(B42-$F$130-$F$131-$F$132-$F$133-$F$134-$F$135-$F$136)*$G$137)))))))) -> FALSE | H42: =G42-C42 -> 0
D43: =B44-B42 -> 0 | E43: =(C42+C44)*D43/2 -> 0
A44: =A42+1 -> 16 | G44: =IF(F44=$A$130,$C$130+B44*$G$130,IF(F44=$A$131,$C$131+(B44-$F$130)*$G$131,IF(F44=$A$132,$C$132+(B44-$F$130-$F$131)*$G$132,IF(F44=$A$133,$C$133+(B44-$F$130-$F$131-$F$132)*$G$133,IF(F44=$A$134,$C$134+(B44-$F$130-$F$131-$F$132-$F$133)*$G$134,IF(F44=$A$135,$C$135+(B44-$F$130-$F$131-$F$132-$F$133-$F$134)*$G$135,IF(F44=$A$136,$C$136+(B44-$F$130-$F$131-$F$132-$F$133-$F$134-$F$135)*$G$136,IF(F44=$A$137,$C$137+(B44-$F$130-$F$131-$F$132-$F$133-$F$134-$F$135-$F$136)*$G$137)))))))) -> FALSE | H44: =G44-C44 -> 0
D45: =B46-B44 -> 0 | E45: =(C44+C46)*D45/2 -> 0
A46: =A44+1 -> 17 | G46: =IF(F46=$A$130,$C$130+B46*$G$130,IF(F46=$A$131,$C$131+(B46-$F$130)*$G$131,IF(F46=$A$132,$C$132+(B46-$F$130-$F$131)*$G$132,IF(F46=$A$133,$C$133+(B46-$F$130-$F$131-$F$132)*$G$133,IF(F46=$A$134,$C$134+(B46-$F$130-$F$131-$F$132-$F$133)*$G$134,IF(F46=$A$135,$C$135+(B46-$F$130-$F$131-$F$132-$F$133-$F$134)*$G$135,IF(F46=$A$136,$C$136+(B46-$F$130-$F$131-$F$132-$F$133-$F$134-$F$135)*$G$136,IF(F46=$A$137,$C$137+(B46-$F$130-$F$131-$F$132-$F$133-$F$134-$F$135-$F$136)*$G$137)))))))) -> FALSE | H46: =G46-C46 -> 0
D47: =B48-B46 -> 0 | E47: =(C46+C48)*D47/2 -> 0
A48: =A46+1 -> 18 | G48: =IF(F48=$A$130,$C$130+B48*$G$130,IF(F48=$A$131,$C$131+(B48-$F$130)*$G$131,IF(F48=$A$132,$C$132+(B48-$F$130-$F$131)*$G$132,IF(F48=$A$133,$C$133+(B48-$F$130-$F$131-$F$132)*$G$133,IF(F48=$A$134,$C$134+(B48-$F$130-$F$131-$F$132-$F$133)*$G$134,IF(F48=$A$135,$C$135+(B48-$F$130-$F$131-$F$132-$F$133-$F$134)*$G$135,IF(F48=$A$136,$C$136+(B48-$F$130-$F$131-$F$132-$F$133-$F$134-$F$135)*$G$136,IF(F48=$A$137,$C$137+(B48-$F$130-$F$131-$F$132-$F$133-$F$134-$F$135-$F$136)*$G$137)))))))) -> FALSE | H48: =G48-C48 -> 0
D49: =B50-B48 -> 0 | E49: =(C48+C50)*D49/2 -> 0
A50: =A48+1 -> 19 | G50: =IF(F50=$A$130,$C$130+B50*$G$130,IF(F50=$A$131,$C$131+(B50-$F$130)*$G$131,IF(F50=$A$132,$C$132+(B50-$F$130-$F$131)*$G$132,IF(F50=$A$133,$C$133+(B50-$F$130-$F$131-$F$132)*$G$133,IF(F50=$A$134,$C$134+(B50-$F$130-$F$131-$F$132-$F$133)*$G$134,IF(F50=$A$135,$C$135+(B50-$F$130-$F$131-$F$132-$F$133-$F$134)*$G$135,IF(F50=$A$136,$C$136+(B50-$F$130-$F$131-$F$132-$F$133-$F$134-$F$135)*$G$136,IF(F50=$A$137,$C$137+(B50-$F$130-$F$131-$F$132-$F$133-$F$134-$F$135-$F$136)*$G$137)))))))) -> FALSE | H50: =G50-C50 -> 0
D51: =B52-B50 -> 0 | E51: =(C50+C52)*D51/2 -> 0
A52: =A50+1 -> 20 | G52: =IF(F52=$A$130,$C$130+B52*$G$130,IF(F52=$A$131,$C$131+(B52-$F$130)*$G$131,IF(F52=$A$132,$C$132+(B52-$F$130-$F$131)*$G$132,IF(F52=$A$133,$C$133+(B52-$F$130-$F$131-$F$132)*$G$133,IF(F52=$A$134,$C$134+(B52-$F$130-$F$131-$F$132-$F$133)*$G$134,IF(F52=$A$135,$C$135+(B52-$F$130-$F$131-$F$132-$F$133-$F$134)*$G$135,IF(F52=$A$136,$C$136+(B52-$F$130-$F$131-$F$132-$F$133-$F$134-$F$135)*$G$136,IF(F52=$A$137,$C$137+(B52-$F$130-$F$131-$F$132-$F$133-$F$134-$F$135-$F$136)*$G$137)))))))) -> FALSE | H52: =G52-C52 -> 0
D53: =B54-B52 -> 0 | E53: =(C52+C54)*D53/2 -> 0
A54: =A52+1 -> 21 | G54: =IF(F54=$A$130,$C$130+B54*$G$130,IF(F54=$A$131,$C$131+(B54-$F$130)*$G$131,IF(F54=$A$132,$C$132+(B54-$F$130-$F$131)*$G$132,IF(F54=$A$133,$C$133+(B54-$F$130-$F$131-$F$132)*$G$133,IF(F54=$A$134,$C$134+(B54-$F$130-$F$131-$F$132-$F$133)*$G$134,IF(F54=$A$135,$C$135+(B54-$F$130-$F$131-$F$132-$F$133-$F$134)*$G$135,IF(F54=$A$136,$C$136+(B54-$F$130-$F$131-$F$132-$F$133-$F$134-$F$135)*$G$136,IF(F54=$A$137,$C$137+(B54-$F$130-$F$131-$F$132-$F$133-$F$134-$F$135-$F$136)*$G$137)))))))) -> FALSE | H54: =G54-C54 -> 0
D55: =B56-B54 -> 0 | E55: =(C54+C56)*D55/2 -> 0
A56: =A54+1 -> 22 | G56: =IF(F56=$A$130,$C$130+B56*$G$130,IF(F56=$A$131,$C$131+(B56-$F$130)*$G$131,IF(F56=$A$132,$C$132+(B56-$F$130-$F$131)*$G$132,IF(F56=$A$133,$C$133+(B56-$F$130-$F$131-$F$132)*$G$133,IF(F56=$A$134,$C$134+(B56-$F$130-$F$131-$F$132-$F$133)*$G$134,IF(F56=$A$135,$C$135+(B56-$F$130-$F$131-$F$132-$F$133-$F$134)*$G$135,IF(F56=$A$136,$C$136+(B56-$F$130-$F$131-$F$132-$F$133-$F$134-$F$135)*$G$136,IF(F56=$A$137,$C$137+(B56-$F$130-$F$131-$F$132-$F$133-$F$134-$F$135-$F$136)*$G$137)))))))) -> FALSE | H56: =G56-C56 -> 0
D57: =B58-B56 -> 0 | E57: =(C56+C58)*D57/2 -> 0
A58: =A56+1 -> 23 | G58: =IF(F58=$A$130,$C$130+B58*$G$130,IF(F58=$A$131,$C$131+(B58-$F$130)*$G$131,IF(F58=$A$132,$C$132+(B58-$F$130-$F$131)*$G$132,IF(F58=$A$133,$C$133+(B58-$F$130-$F$131-$F$132)*$G$133,IF(F58=$A$134,$C$134+(B58-$F$130-$F$131-$F$132-$F$133)*$G$134,IF(F58=$A$135,$C$135+(B58-$F$130-$F$131-$F$132-$F$133-$F$134)*$G$135,IF(F58=$A$136,$C$136+(B58-$F$130-$F$131-$F$132-$F$133-$F$134-$F$135)*$G$136,IF(F58=$A$137,$C$137+(B58-$F$130-$F$131-$F$132-$F$133-$F$134-$F$135-$F$136)*$G$137)))))))) -> FALSE | H58: =G58-C58 -> 0
D59: =B60-B58 -> 0 | E59: =(C58+C60)*D59/2 -> 0
A60: =A58+1 -> 24 | G60: =IF(F60=$A$130,$C$130+B60*$G$130,IF(F60=$A$131,$C$131+(B60-$F$130)*$G$131,IF(F60=$A$132,$C$132+(B60-$F$130-$F$131)*$G$132,IF(F60=$A$133,$C$133+(B60-$F$130-$F$131-$F$132)*$G$133,IF(F60=$A$134,$C$134+(B60-$F$130-$F$131-$F$132-$F$133)*$G$134,IF(F60=$A$135,$C$135+(B60-$F$130-$F$131-$F$132-$F$133-$F$134)*$G$135,IF(F60=$A$136,$C$136+(B60-$F$130-$F$131-$F$132-$F$133-$F$134-$F$135)*$G$136,IF(F60=$A$137,$C$137+(B60-$F$130-$F$131-$F$132-$F$133-$F$134-$F$135-$F$136)*$G$137)))))))) -> FALSE | H60: =G60-C60 -> 0
D61: =B62-B60 -> 0 | E61: =(C60+C62)*D61/2 -> 0
A62: =A60+1 -> 25 | G62: =IF(F62=$A$130,$C$130+B62*$G$130,IF(F62=$A$131,$C$131+(B62-$F$130)*$G$131,IF(F62=$A$132,$C$132+(B62-$F$130-$F$131)*$G$132,IF(F62=$A$133,$C$133+(B62-$F$130-$F$131-$F$132)*$G$133,IF(F62=$A$134,$C$134+(B62-$F$130-$F$131-$F$132-$F$133)*$G$134,IF(F62=$A$135,$C$135+(B62-$F$130-$F$131-$F$132-$F$133-$F$134)*$G$135,IF(F62=$A$136,$C$136+(B62-$F$130-$F$131-$F$132-$F$133-$F$134-$F$135)*$G$136,IF(F62=$A$137,$C$137+(B62-$F$130-$F$131-$F$132-$F$133-$F$134-$F$135-$F$136)*$G$137)))))))) -> FALSE | H62: =G62-C62 -> 0
D63: =B64-B62 -> 0 | E63: =(C62+C64)*D63/2 -> 0
A64: =A62+1 -> 26 | G64: =IF(F64=$A$130,$C$130+B64*$G$130,IF(F64=$A$131,$C$131+(B64-$F$130)*$G$131,IF(F64=$A$132,$C$132+(B64-$F$130-$F$131)*$G$132,IF(F64=$A$133,$C$133+(B64-$F$130-$F$131-$F$132)*$G$133,IF(F64=$A$134,$C$134+(B64-$F$130-$F$131-$F$132-$F$133)*$G$134,IF(F64=$A$135,$C$135+(B64-$F$130-$F$131-$F$132-$F$133-$F$134)*$G$135,IF(F64=$A$136,$C$136+(B64-$F$130-$F$131-$F$132-$F$133-$F$134-$F$135)*$G$136,IF(F64=$A$137,$C$137+(B64-$F$130-$F$131-$F$132-$F$133-$F$134-$F$135-$F$136)*$G$137)))))))) -> FALSE | H64: =G64-C64 -> 0
D65: =B66-B64 -> 0 | E65: =(C64+C66)*D65/2 -> 0
A66: =A64+1 -> 27 | G66: =IF(F66=$A$130,$C$130+B66*$G$130,IF(F66=$A$131,$C$131+(B66-$F$130)*$G$131,IF(F66=$A$132,$C$132+(B66-$F$130-$F$131)*$G$132,IF(F66=$A$133,$C$133+(B66-$F$130-$F$131-$F$132)*$G$133,IF(F66=$A$134,$C$134+(B66-$F$130-$F$131-$F$132-$F$133)*$G$134,IF(F66=$A$135,$C$135+(B66-$F$130-$F$131-$F$132-$F$133-$F$134)*$G$135,IF(F66=$A$136,$C$136+(B66-$F$130-$F$131-$F$132-$F$133-$F$134-$F$135)*$G$136,IF(F66=$A$137,$C$137+(B66-$F$130-$F$131-$F$132-$F$133-$F$134-$F$135-$F$136)*$G$137)))))))) -> FALSE | H66: =G66-C66 -> 0
D67: =B68-B66 -> 0 | E67: =(C66+C68)*D67/2 -> 0
A68: =A66+1 -> 28 | G68: =IF(F68=$A$130,$C$130+B68*$G$130,IF(F68=$A$131,$C$131+(B68-$F$130)*$G$131,IF(F68=$A$132,$C$132+(B68-$F$130-$F$131)*$G$132,IF(F68=$A$133,$C$133+(B68-$F$130-$F$131-$F$132)*$G$133,IF(F68=$A$134,$C$134+(B68-$F$130-$F$131-$F$132-$F$133)*$G$134,IF(F68=$A$135,$C$135+(B68-$F$130-$F$131-$F$132-$F$133-$F$134)*$G$135,IF(F68=$A$136,$C$136+(B68-$F$130-$F$131-$F$132-$F$133-$F$134-$F$135)*$G$136,IF(F68=$A$137,$C$137+(B68-$F$130-$F$131-$F$132-$F$133-$F$134-$F$135-$F$136)*$G$137)))))))) -> FALSE | H68: =G68-C68 -> 0
D69: =B70-B68 -> 0 | E69: =(C68+C70)*D69/2 -> 0
A70: =A68+1 -> 29 | G70: =IF(F70=$A$130,$C$130+B70*$G$130,IF(F70=$A$131,$C$131+(B70-$F$130)*$G$131,IF(F70=$A$132,$C$132+(B70-$F$130-$F$131)*$G$132,IF(F70=$A$133,$C$133+(B70-$F$130-$F$131-$F$132)*$G$133,IF(F70=$A$134,$C$134+(B70-$F$130-$F$131-$F$132-$F$133)*$G$134,IF(F70=$A$135,$C$135+(B70-$F$130-$F$131-$F$132-$F$133-$F$134)*$G$135,IF(F70=$A$136,$C$136+(B70-$F$130-$F$131-$F$132-$F$133-$F$134-$F$135)*$G$136,IF(F70=$A$137,$C$137+(B70-$F$130-$F$131-$F$132-$F$133-$F$134-$F$135-$F$136)*$G$137)))))))) -> FALSE | H70: =G70-C70 -> 0
D71: =B72-B70 -> 0 | E71: =(C70+C72)*D71/2 -> 0
A72: =A70+1 -> 30 | G72: =IF(F72=$A$130,$C$130+B72*$G$130,IF(F72=$A$131,$C$131+(B72-$F$130)*$G$131,IF(F72=$A$132,$C$132+(B72-$F$130-$F$131)*$G$132,IF(F72=$A$133,$C$133+(B72-$F$130-$F$131-$F$132)*$G$133,IF(F72=$A$134,$C$134+(B72-$F$130-$F$131-$F$132-$F$133)*$G$134,IF(F72=$A$135,$C$135+(B72-$F$130-$F$131-$F$132-$F$133-$F$134)*$G$135,IF(F72=$A$136,$C$136+(B72-$F$130-$F$131-$F$132-$F$133-$F$134-$F$135)*$G$136,IF(F72=$A$137,$C$137+(B72-$F$130-$F$131-$F$132-$F$133-$F$134-$F$135-$F$136)*$G$137)))))))) -> FALSE | H72: =G72-C72 -> 0
D73: =B74-B72 -> 0 | E73: =(C72+C74)*D73/2 -> 0
A74: =A72+1 -> 31 | G74: =IF(F74=$A$130,$C$130+B74*$G$130,IF(F74=$A$131,$C$131+(B74-$F$130)*$G$131,IF(F74=$A$132,$C$132+(B74-$F$130-$F$131)*$G$132,IF(F74=$A$133,$C$133+(B74-$F$130-$F$131-$F$132)*$G$133,IF(F74=$A$134,$C$134+(B74-$F$130-$F$131-$F$132-$F$133)*$G$134,IF(F74=$A$135,$C$135+(B74-$F$130-$F$131-$F$132-$F$133-$F$134)*$G$135,IF(F74=$A$136,$C$136+(B74-$F$130-$F$131-$F$132-$F$133-$F$134-$F$135)*$G$136,IF(F74=$A$137,$C$137+(B74-$F$130-$F$131-$F$132-$F$133-$F$134-$F$135-$F$136)*$G$137)))))))) -> FALSE | H74: =G74-C74 -> 0
D75: =B76-B74 -> 0 | E75: =(C74+C76)*D75/2 -> 0
A76: =A74+1 -> 32 | G76: =IF(F76=$A$130,$C$130+B76*$G$130,IF(F76=$A$131,$C$131+(B76-$F$130)*$G$131,IF(F76=$A$132,$C$132+(B76-$F$130-$F$131)*$G$132,IF(F76=$A$133,$C$133+(B76-$F$130-$F$131-$F$132)*$G$133,IF(F76=$A$134,$C$134+(B76-$F$130-$F$131-$F$132-$F$133)*$G$134,IF(F76=$A$135,$C$135+(B76-$F$130-$F$131-$F$132-$F$133-$F$134)*$G$135,IF(F76=$A$136,$C$136+(B76-$F$130-$F$131-$F$132-$F$133-$F$134-$F$135)*$G$136,IF(F76=$A$137,$C$137+(B76-$F$130-$F$131-$F$132-$F$133-$F$134-$F$135-$F$136)*$G$137)))))))) -> FALSE | H76: =G76-C76 -> 0
D77: =B78-B76 -> 0 | E77: =(C76+C78)*D77/2 -> 0
A78: =A76+1 -> 33 | G78: =IF(F78=$A$130,$C$130+B78*$G$130,IF(F78=$A$131,$C$131+(B78-$F$130)*$G$131,IF(F78=$A$132,$C$132+(B78-$F$130-$F$131)*$G$132,IF(F78=$A$133,$C$133+(B78-$F$130-$F$131-$F$132)*$G$133,IF(F78=$A$134,$C$134+(B78-$F$130-$F$131-$F$132-$F$133)*$G$134,IF(F78=$A$135,$C$135+(B78-$F$130-$F$131-$F$132-$F$133-$F$134)*$G$135,IF(F78=$A$136,$C$136+(B78-$F$130-$F$131-$F$132-$F$133-$F$134-$F$135)*$G$136,IF(F78=$A$137,$C$137+(B78-$F$130-$F$131-$F$132-$F$133-$F$134-$F$135-$F$136)*$G$137)))))))) -> FALSE | H78: =G78-C78 -> 0
D79: =B80-B78 -> 0 | E79: =(C78+C80)*D79/2 -> 0
A80: =A78+1 -> 34 | G80: =IF(F80=$A$130,$C$130+B80*$G$130,IF(F80=$A$131,$C$131+(B80-$F$130)*$G$131,IF(F80=$A$132,$C$132+(B80-$F$130-$F$131)*$G$132,IF(F80=$A$133,$C$133+(B80-$F$130-$F$131-$F$132)*$G$133,IF(F80=$A$134,$C$134+(B80-$F$130-$F$131-$F$132-$F$133)*$G$134,IF(F80=$A$135,$C$135+(B80-$F$130-$F$131-$F$132-$F$133-$F$134)*$G$135,IF(F80=$A$136,$C$136+(B80-$F$130-$F$131-$F$132-$F$133-$F$134-$F$135)*$G$136,IF(F80=$A$137,$C$137+(B80-$F$130-$F$131-$F$132-$F$133-$F$134-$F$135-$F$136)*$G$137)))))))) -> FALSE | H80: =G80-C80 -> 0
D81: =B82-B80 -> 0 | E81: =(C80+C82)*D81/2 -> 0
A82: =A80+1 -> 35 | G82: =IF(F82=$A$130,$C$130+B82*$G$130,IF(F82=$A$131,$C$131+(B82-$F$130)*$G$131,IF(F82=$A$132,$C$132+(B82-$F$130-$F$131)*$G$132,IF(F82=$A$133,$C$133+(B82-$F$130-$F$131-$F$132)*$G$133,IF(F82=$A$134,$C$134+(B82-$F$130-$F$131-$F$132-$F$133)*$G$134,IF(F82=$A$135,$C$135+(B82-$F$130-$F$131-$F$132-$F$133-$F$134)*$G$135,IF(F82=$A$136,$C$136+(B82-$F$130-$F$131-$F$132-$F$133-$F$134-$F$135)*$G$136,IF(F82=$A$137,$C$137+(B82-$F$130-$F$131-$F$132-$F$133-$F$134-$F$135-$F$136)*$G$137)))))))) -> FALSE | H82: =G82-C82 -> 0
D83: =B84-B82 -> 0 | E83: =(C82+C84)*D83/2 -> 0
A84: =A82+1 -> 36 | G84: =IF(F84=$A$130,$C$130+B84*$G$130,IF(F84=$A$131,$C$131+(B84-$F$130)*$G$131,IF(F84=$A$132,$C$132+(B84-$F$130-$F$131)*$G$132,IF(F84=$A$133,$C$133+(B84-$F$130-$F$131-$F$132)*$G$133,IF(F84=$A$134,$C$134+(B84-$F$130-$F$131-$F$132-$F$133)*$G$134,IF(F84=$A$135,$C$135+(B84-$F$130-$F$131-$F$132-$F$133-$F$134)*$G$135,IF(F84=$A$136,$C$136+(B84-$F$130-$F$131-$F$132-$F$133-$F$134-$F$135)*$G$136,IF(F84=$A$137,$C$137+(B84-$F$130-$F$131-$F$132-$F$133-$F$134-$F$135-$F$136)*$G$137)))))))) -> FALSE | H84: =G84-C84 -> 0
D85: =B86-B84 -> 0 | E85: =(C84+C86)*D85/2 -> 0
A86: =A84+1 -> 37 | G86: =IF(F86=$A$130,$C$130+B86*$G$130,IF(F86=$A$131,$C$131+(B86-$F$130)*$G$131,IF(F86=$A$132,$C$132+(B86-$F$130-$F$131)*$G$132,IF(F86=$A$133,$C$133+(B86-$F$130-$F$131-$F$132)*$G$133,IF(F86=$A$134,$C$134+(B86-$F$130-$F$131-$F$132-$F$133)*$G$134,IF(F86=$A$135,$C$135+(B86-$F$130-$F$131-$F$132-$F$133-$F$134)*$G$135,IF(F86=$A$136,$C$136+(B86-$F$130-$F$131-$F$132-$F$133-$F$134-$F$135)*$G$136,IF(F86=$A$137,$C$137+(B86-$F$130-$F$131-$F$132-$F$133-$F$134-$F$135-$F$136)*$G$137)))))))) -> FALSE | H86: =G86-C86 -> 0
D87: =B88-B86 -> 0 | E87: =(C86+C88)*D87/2 -> 0
A88: =A86+1 -> 38 | G88: =IF(F88=$A$130,$C$130+B88*$G$130,IF(F88=$A$131,$C$131+(B88-$F$130)*$G$131,IF(F88=$A$132,$C$132+(B88-$F$130-$F$131)*$G$132,IF(F88=$A$133,$C$133+(B88-$F$130-$F$131-$F$132)*$G$133,IF(F88=$A$134,$C$134+(B88-$F$130-$F$131-$F$132-$F$133)*$G$134,IF(F88=$A$135,$C$135+(B88-$F$130-$F$131-$F$132-$F$133-$F$134)*$G$135,IF(F88=$A$136,$C$136+(B88-$F$130-$F$131-$F$132-$F$133-$F$134-$F$135)*$G$136,IF(F88=$A$137,$C$137+(B88-$F$130-$F$131-$F$132-$F$133-$F$134-$F$135-$F$136)*$G$137)))))))) -> FALSE | H88: =G88-C88 -> 0
D89: =B90-B88 -> 0 | E89: =(C88+C90)*D89/2 -> 0
A90: =A88+1 -> 39 | G90: =IF(F90=$A$130,$C$130+B90*$G$130,IF(F90=$A$131,$C$131+(B90-$F$130)*$G$131,IF(F90=$A$132,$C$132+(B90-$F$130-$F$131)*$G$132,IF(F90=$A$133,$C$133+(B90-$F$130-$F$131-$F$132)*$G$133,IF(F90=$A$134,$C$134+(B90-$F$130-$F$131-$F$132-$F$133)*$G$134,IF(F90=$A$135,$C$135+(B90-$F$130-$F$131-$F$132-$F$133-$F$134)*$G$135,IF(F90=$A$136,$C$136+(B90-$F$130-$F$131-$F$132-$F$133-$F$134-$F$135)*$G$136,IF(F90=$A$137,$C$137+(B90-$F$130-$F$131-$F$132-$F$133-$F$134-$F$135-$F$136)*$G$137)))))))) -> FALSE | H90: =G90-C90 -> 0
D91: =B92-B90 -> 0 | E91: =(C90+C92)*D91/2 -> 0
A92: =A90+1 -> 40 | G92: =IF(F92=$A$130,$C$130+B92*$G$130,IF(F92=$A$131,$C$131+(B92-$F$130)*$G$131,IF(F92=$A$132,$C$132+(B92-$F$130-$F$131)*$G$132,IF(F92=$A$133,$C$133+(B92-$F$130-$F$131-$F$132)*$G$133,IF(F92=$A$134,$C$134+(B92-$F$130-$F$131-$F$132-$F$133)*$G$134,IF(F92=$A$135,$C$135+(B92-$F$130-$F$131-$F$132-$F$133-$F$134)*$G$135,IF(F92=$A$136,$C$136+(B92-$F$130-$F$131-$F$132-$F$133-$F$134-$F$135)*$G$136,IF(F92=$A$137,$C$137+(B92-$F$130-$F$131-$F$132-$F$133-$F$134-$F$135-$F$136)*$G$137)))))))) -> FALSE | H92: =G92-C92 -> 0
D93: =B94-B92 -> 0 | E93: =(C92+C94)*D93/2 -> 0
A94: =A92+1 -> 41 | G94: =IF(F94=$A$130,$C$130+B94*$G$130,IF(F94=$A$131,$C$131+(B94-$F$130)*$G$131,IF(F94=$A$132,$C$132+(B94-$F$130-$F$131)*$G$132,IF(F94=$A$133,$C$133+(B94-$F$130-$F$131-$F$132)*$G$133,IF(F94=$A$134,$C$134+(B94-$F$130-$F$131-$F$132-$F$133)*$G$134,IF(F94=$A$135,$C$135+(B94-$F$130-$F$131-$F$132-$F$133-$F$134)*$G$135,IF(F94=$A$136,$C$136+(B94-$F$130-$F$131-$F$132-$F$133-$F$134-$F$135)*$G$136,IF(F94=$A$137,$C$137+(B94-$F$130-$F$131-$F$132-$F$133-$F$134-$F$135-$F$136)*$G$137)))))))) -> FALSE | H94: =G94-C94 -> 0
D95: =B96-B94 -> 0 | E95: =(C94+C96)*D95/2 -> 0
A96: =A94+1 -> 42 | G96: =IF(F96=$A$130,$C$130+B96*$G$130,IF(F96=$A$131,$C$131+(B96-$F$130)*$G$131,IF(F96=$A$132,$C$132+(B96-$F$130-$F$131)*$G$132,IF(F96=$A$133,$C$133+(B96-$F$130-$F$131-$F$132)*$G$133,IF(F96=$A$134,$C$134+(B96-$F$130-$F$131-$F$132-$F$133)*$G$134,IF(F96=$A$135,$C$135+(B96-$F$130-$F$131-$F$132-$F$133-$F$134)*$G$135,IF(F96=$A$136,$C$136+(B96-$F$130-$F$131-$F$132-$F$133-$F$134-$F$135)*$G$136,IF(F96=$A$137,$C$137+(B96-$F$130-$F$131-$F$132-$F$133-$F$134-$F$135-$F$136)*$G$137)))))))) -> FALSE | H96: =G96-C96 -> 0
D97: =B98-B96 -> 0 | E97: =(C96+C98)*D97/2 -> 0
A98: =A96+1 -> 43 | G98: =IF(F98=$A$130,$C$130+B98*$G$130,IF(F98=$A$131,$C$131+(B98-$F$130)*$G$131,IF(F98=$A$132,$C$132+(B98-$F$130-$F$131)*$G$132,IF(F98=$A$133,$C$133+(B98-$F$130-$F$131-$F$132)*$G$133,IF(F98=$A$134,$C$134+(B98-$F$130-$F$131-$F$132-$F$133)*$G$134,IF(F98=$A$135,$C$135+(B98-$F$130-$F$131-$F$132-$F$133-$F$134)*$G$135,IF(F98=$A$136,$C$136+(B98-$F$130-$F$131-$F$132-$F$133-$F$134-$F$135)*$G$136,IF(F98=$A$137,$C$137+(B98-$F$130-$F$131-$F$132-$F$133-$F$134-$F$135-$F$136)*$G$137)))))))) -> FALSE | H98: =G98-C98 -> 0
D99: =B100-B98 -> 0 | E99: =(C98+C100)*D99/2 -> 0
A100: =A98+1 -> 44 | G100: =IF(F100=$A$130,$C$130+B100*$G$130,IF(F100=$A$131,$C$131+(B100-$F$130)*$G$131,IF(F100=$A$132,$C$132+(B100-$F$130-$F$131)*$G$132,IF(F100=$A$133,$C$133+(B100-$F$130-$F$131-$F$132)*$G$133,IF(F100=$A$134,$C$134+(B100-$F$130-$F$131-$F$132-$F$133)*$G$134,IF(F100=$A$135,$C$135+(B100-$F$130-$F$131-$F$132-$F$133-$F$134)*$G$135,IF(F100=$A$136,$C$136+(B100-$F$130-$F$131-$F$132-$F$133-$F$134-$F$135)*$G$136,IF(F100=$A$137,$C$137+(B100-$F$130-$F$131-$F$132-$F$133-$F$134-$F$135-$F$136)*$G$137)))))))) -> FALSE | H100: =G100-C100 -> 0
D101: =B102-B100 -> 0 | E101: =(C100+C102)*D101/2 -> 0
A102: =A100+1 -> 45 | G102: =IF(F102=$A$130,$C$130+B102*$G$130,IF(F102=$A$131,$C$131+(B102-$F$130)*$G$131,IF(F102=$A$132,$C$132+(B102-$F$130-$F$131)*$G$132,IF(F102=$A$133,$C$133+(B102-$F$130-$F$131-$F$132)*$G$133,IF(F102=$A$134,$C$134+(B102-$F$130-$F$131-$F$132-$F$133)*$G$134,IF(F102=$A$135,$C$135+(B102-$F$130-$F$131-$F$132-$F$133-$F$134)*$G$135,IF(F102=$A$136,$C$136+(B102-$F$130-$F$131-$F$132-$F$133-$F$134-$F$135)*$G$136,IF(F102=$A$137,$C$137+(B102-$F$130-$F$131-$F$132-$F$133-$F$134-$F$135-$F$136)*$G$137)))))))) -> FALSE | H102: =G102-C102 -> 0
...

Sheet TAB 4
A1: PROGETTO STRADALE TABELLA 4: PROFILO TRASVERSALE DEL TERRENO
A3: Sez n. | C3: Isoipse a sinistra | F3: Asse | G3: Isoipse a destra
A4: 1 | B4: Dist.Progr. [m] | F4: ='TAB 2 e TAB 3'!B14 -> 0
B5: Q terr [m] | F5: ='TAB 2 e TAB 3'!C14 -> 80
B6: Q prog [m] | F6: ='TAB 2 e TAB 3'!G14 -> 80
A8: Sez n. | C8: Isoipse a sinistra | F8: Asse | G8: Isoipse a destra
A9: =A4+1 -> 2 | B9: Dist.Progr. [m] | F9: ='TAB 2 e TAB 3'!B16 -> 25.67
B10: Q terr [m] | F10: ='TAB 2 e TAB 3'!C16 -> 82
B11: Q prog [m] | F11: ='TAB 2 e TAB 3'!G16 -> 81.401507
A13: Sez n. | C13: Isoipse a sinistra | F13: Asse | G13: Isoipse a destra
A14: =A9+1 -> 3 | B14: Dist.Progr. [m] | F14: ='TAB 2 e TAB 3'!B18 -> 47.57
B15: Q terr [m] | F15: ='TAB 2 e TAB 3'!C18 -> 84
B16: Q prog [m] | F16: ='TAB 2 e TAB 3'!G18 -> 82.597183
A18: Sez n. | C18: Isoipse a sinistra | F18: Asse | G18: Isoipse a destra
A19: =A14+1 -> 4 | B19: Dist.Progr. [m] | F19: ='TAB 2 e TAB 3'!B20 -> 68.52
B20: Q terr [m] | F20: ='TAB 2 e TAB 3'!C20 -> 86
B21: Q prog [m] | F21: ='TAB 2 e TAB 3'!G20 -> 83.740991
A23: Sez n. | C23: Isoipse a sinistra | F23: Asse | G23: Isoipse a destra
A24: =A19+1 -> 5 | B24: Dist.Progr. [m] | F24: ='TAB 2 e TAB 3'!B22 -> 91.58
B25: Q terr [m] | F25: ='TAB 2 e TAB 3'!C22 -> 88
B26: Q prog [m] | F26: ='TAB 2 e TAB 3'!G22 -> 85
A28: Sez n. | C28: Isoipse a sinistra | F28: Asse | G28: Isoipse a destra
A29: =A24+1 -> 6 | B29: Dist.Progr. [m] | F29: ='TAB 2 e TAB 3'!B24 -> 0
B30: Q terr [m] | F30: ='TAB 2 e TAB 3'!C24 -> 0
B31: Q prog [m] | F31: ='TAB 2 e TAB 3'!G24 -> 80
A33: Sez n. | C33: Isoipse a sinistra | F33: Asse | G33: Isoipse a destra
A34: =A29+1 -> 7 | B34: Dist.Progr. [m] | F34: ='TAB 2 e TAB 3'!B26 -> 0
B35: Q terr [m] | F35: ='TAB 2 e TAB 3'!C26 -> 0
B36: Q prog [m] | F36: ='TAB 2 e TAB 3'!G26 -> 80
A38: Sez n. | C38: Isoipse a sinistra | F38: Asse | G38: Isoipse a destra
A39: =A34+1 -> 8 | B39: Dist.Progr. [m] | F39: ='TAB 2 e TAB 3'!B28 -> 0
B40: Q terr [m] | F40: ='TAB 2 e TAB 3'!C28 -> 0
B41: Q prog [m] | F41: ='TAB 2 e TAB 3'!G28 -> 80
A43: Sez n. | C43: Isoipse a sinistra | F43: Asse | G43: Isoipse a destra
A44: =A39+1 -> 9 | B44: Dist.Progr. [m] | F44: ='TAB 2 e TAB 3'!B30 -> 0
B45: Q terr [m] | F45: ='TAB 2 e TAB 3'!C30 -> 0
B46: Q prog [m] | F46: ='TAB 2 e TAB 3'!G30 -> 80
A48: Sez n. | C48: Isoipse a sinistra | F48: Asse | G48: Isoipse a destra
A49: =A44+1 -> 10 | B49: Dist.Progr. [m] | F49: ='TAB 2 e TAB 3'!B32 -> 0
B50: Q terr [m] | F50: ='TAB 2 e TAB 3'!C32 -> 0
B51: Q prog [m] | F51: ='TAB 2 e TAB 3'!G32 -> 80
A53: Sez n. | C53: Isoipse a sinistra | F53: Asse | G53: Isoipse a destra
A54: =A49+1 -> 11 | B54: Dist.Progr. [m] | F54: ='TAB 2 e TAB 3'!B34 -> 0
B55: Q terr [m] | F55: ='TAB 2 e TAB 3'!C34 -> 0
B56: Q prog [m] | F56: ='TAB 2 e TAB 3'!G34 -> 80
A58: Sez n. | C58: Isoipse a sinistra | F58: Asse | G58: Isoipse a destra
A59: =A54+1 -> 12 | B59: Dist.Progr. [m] | F59: ='TAB 2 e TAB 3'!B36 -> 0
B60: Q terr [m] | F60: ='TAB 2 e TAB 3'!C36 -> 0
B61: Q prog [m] | F61: ='TAB 2 e TAB 3'!G36 -> FALSE
A63: Sez n. | C63: Isoipse a sinistra | F63: Asse | G63: Isoipse a destra
A64: =A59+1 -> 13 | B64: Dist.Progr. [m] | F64: ='TAB 2 e TAB 3'!B38 -> 0
B65: Q terr [m] | F65: ='TAB 2 e TAB 3'!C38 -> 0
B66: Q prog [m] | F66: ='TAB 2 e TAB 3'!G38 -> FALSE
A68: Sez n. | C68: Isoipse a sinistra | F68: Asse | G68: Isoipse a destra
A69: =A64+1 -> 14 | B69: Dist.Progr. [m] | F69: ='TAB 2 e TAB 3'!B40 -> 0
B70: Q terr [m] | F70: ='TAB 2 e TAB 3'!C40 -> 0
B71: Q prog [m] | F71: ='TAB 2 e TAB 3'!G40 -> FALSE
A73: Sez n. | C73: Isoipse a sinistra | F73: Asse | G73: Isoipse a destra
A74: =A69+1 -> 15 | B74: Dist.Progr. [m] | F74: ='TAB 2 e TAB 3'!B42 -> 0
B75: Q terr [m] | F75: ='TAB 2 e TAB 3'!C42 -> 0
B76: Q prog [m] | F76: ='TAB 2 e TAB 3'!G42 -> FALSE
A78: Sez n. | C78: Isoipse a sinistra | F78: Asse | G78: Isoipse a destra
A79: =A74+1 -> 16 | B79: Dist.Progr. [m] | F79: ='TAB 2 e TAB 3'!B44 -> 0
B80: Q terr [m] | F80: ='TAB 2 e TAB 3'!C44 -> 0
B81: Q prog [m] | F81: ='TAB 2 e TAB 3'!G44 -> FALSE
A83: Sez n. | C83: Isoipse a sinistra | F83: Asse | G83: Isoipse a destra
A84: =A79+1 -> 17 | B84: Dist.Progr. [m] | F84: ='TAB 2 e TAB 3'!B46 -> 0
B85: Q terr [m] | F85: ='TAB 2 e TAB 3'!C46 -> 0
B86: Q prog [m] | F86: ='TAB 2 e TAB 3'!G46 -> FALSE
A88: Sez n. | C88: Isoipse a sinistra | F88: Asse | G88: Isoipse a destra
A89: =A84+1 -> 18 | B89: Dist.Progr. [m] | F89: ='TAB 2 e TAB 3'!B48 -> 0
B90: Q terr [m] | F90: ='TAB 2 e TAB 3'!C48 -> 0
B91: Q prog [m] | F91: ='TAB 2 e TAB 3'!G48 -> FALSE
A93: Sez n. | C93: Isoipse a sinistra | F93: Asse | G93: Isoipse a destra
A94: =A89+1 -> 19 | B94: Dist.Progr. [m] | F94: ='TAB 2 e TAB 3'!B50 -> 0
B95: Q terr [m] | F95: ='TAB 2 e TAB 3'!C50 -> 0
B96: Q prog [m] | F96: ='TAB 2 e TAB 3'!G50 -> FALSE
A98: Sez n. | C98: Isoipse a sinistra | F98: Asse | G98: Isoipse a destra
A99: =A94+1 -> 20 | B99: Dist.Progr. [m] | F99: ='TAB 2 e TAB 3'!B52 -> 0
B100: Q terr [m] | F100: ='TAB 2 e TAB 3'!C52 -> 0
B101: Q prog [m] | F101: ='TAB 2 e TAB 3'!G52 -> FALSE
A103: Sez n. | C103: Isoipse a sinistra | F103: Asse | G103: Isoipse a destra
A104: =A99+1 -> 21 | B104: Dist.Progr. [m] | F104: ='TAB 2 e TAB 3'!B54 -> 0
B105: Q terr [m] | F105: ='TAB 2 e TAB 3'!C54 -> 0
B106: Q prog [m] | F106: ='TAB 2 e TAB 3'!G54 -> FALSE
A108: Sez n. | C108: Isoipse a sinistra | F108: Asse | G108: Isoipse a destra
A109: =A104+1 -> 22 | B109: Dist.Progr. [m] | F109: ='TAB 2 e TAB 3'!B14 -> 0
B110: Q terr [m] | F110: ='TAB 2 e TAB 3'!C56 -> 0
B111: Q prog [m] | F111: ='TAB 2 e TAB 3'!G56 -> FALSE
A113: Sez n. | C113: Isoipse a sinistra | F113: Asse | G113: Isoipse a destra
A114: =A109+1 -> 23 | B114: Dist.Progr. [m] | F114: ='TAB 2 e TAB 3'!B58 -> 0
B115: Q terr [m] | F115: ='TAB 2 e TAB 3'!C58 -> 0
B116: Q prog [m] | F116: ='TAB 2 e TAB 3'!G58 -> FALSE
A118: Sez n. | C118: Isoipse a sinistra | F118: Asse | G118: Isoipse a destra
A119: =A114+1 -> 24 | B119: Dist.Progr. [m] | F119: ='TAB 2 e TAB 3'!B60 -> 0
B120: Q terr [m] | F120: ='TAB 2 e TAB 3'!C60 -> 0
B121: Q prog [m] | F121: ='TAB 2 e TAB 3'!G60 -> FALSE
A123: Sez n. | C123: Isoipse a sinistra | F123: Asse | G123: Isoipse a destra
A124: =A119+1 -> 25 | B124: Dist.Progr. [m] | F124: ='TAB 2 e TAB 3'!B62 -> 0
B125: Q terr [m] | F125: ='TAB 2 e TAB 3'!C62 -> 0
...

Sheet TAB 5
A1: PROGETTO STRADALE TABELLA 5: CALCOLO DEI VOLUMI DEL SOLIDO STRADALE
A2: n delle sezioni | B2: FIGURE COMPONENTI LE SEZIONI | C2: SUPERFICI | E2: SUPERFICI MEDIE | G2: DISTANZE (m) | J2: VOLUME FRA DUE SEZ. CONSECUTIVE (m3) | L2: VOLUME PALEGGIABILE | M2: VOLUME ECCEDENTE | N2: ECCEDENZA
C4: Riporto (m2) | D4: Sterro (m2) | E4: Riporto (m2) | F4: Sterro (m2) | G4: Dist. Totale (m) | H4: Dr (m) | I4: Ds (m) | J4: Riporto (m3) | K4: Sterro (m3)
L5: (m3) | M5: (m3) | N5: (m3)
A6: 1 | B6: R' | C6: 0.92
E7: =AVERAGE(C6,C8) -> 0.75 | G7: 9.5 | J7: =-E7*G7 -> -7.125
A8: 2 | B8: R'+R” | C8: =0.36+0.22 -> 0.58
A9: 1 | B9: R” | C9: 0.1
E10: =AVERAGE(C9,C11) -> 0.05 | H10: =C9/(C9+D13)*G11 -> 2.4358974 | J10: =-E10*H10 -> -0.12179487
A11: L.P. | B11: -- | C11: 0 | D11: 0 | G11: 9.5
F12: =AVERAGE(D11,D13) -> 0.145 | I12: =D13/(C9+D13)*G11 -> 7.0641026 | K12: =F12*I12 -> 1.0242949
A13: 2 | B13: S' | D13: 0.29
A14: 1 | B14: S | D14: 1.28
F15: =AVERAGE(D14,D16) -> 2.225 | G15: 9.5 | K15: =F15*G15 -> 21.1375
A16: 2 | B16: S”' | D16: 3.17
A17: 1-2 | J17: =SUM(J6:J16) -> -7.2467949 | K17: =SUM(K6:K16) -> 22.161795 | L17: =MIN(ABS(J17),ABS(K17)) -> 7.2467949 | M17: =SUM(K17,J17) -> 14.915 | N17: =M17 -> 14.915
A18: 2 | B18: R' | C18: 0.36
E19: =AVERAGE(C18,C20) -> 0.25 | G19: =21.5-9.5 -> 12 | J19: =-E19*G19 -> -3
A20: 3 | B20: R | C20: 0.14
A21: 2 | B21: R” | C21: 0.22
E22: =AVERAGE(C21,C23) -> 0.11 | H22: =C21/(C21+D25)*G23 -> 5.0769231 | J22: =-E22*H22 -> -0.55846154
A23: L.P. | B23: -- | C23: 0 | D23: 0 | G23: =G19 -> 12
F24: =AVERAGE(D23,D25) -> 0.15 | I24: =D25/(C21+D25)*G23 -> 6.9230769 | K24: =F24*I24 -> 1.0384615
A25: 3 | B25: S' | D25: 0.3
A26: 2 | B26: S'+S” | D26: =0.29+3.17 -> 3.46
F27: =AVERAGE(D26,D28) -> 4.43 | G27: =G23 -> 12 | K27: =F27*G27 -> 53.16
A28: 3 | B28: S”' | D28: 5.4
A29: 2-3 | J29: =SUM(J18:J28) -> -3.5584615 | K29: =SUM(K18:K28) -> 54.198462 | L29: =MIN(ABS(J29),ABS(K29)) -> 3.5584615 | M29: =SUM(K29,J29) -> 50.64 | N29: =M17+M29 -> 65.555
A30: 3 | B30: R | C30: 0.14
E31: =AVERAGE(C30,C32) -> 0.07 | H31: =C30/(C30+D34)*G32 -> 7.2434783 | J31: =-E31*H31 -> -0.50704348
A32: L.P. | B32: -- | C32: 0 | D32: 0 | G32: =33.4-21.5 -> 11.9
F33: =AVERAGE(D32,D34) -> 0.045 | I33: =D34/(C30+D34)*G32 -> 4.6565217 | K33: =F33*I33 -> 0.20954348
A34: 4 | B34: S' | D34: 0.09
A35: 3 | B35: S'+S” | D35: =0.3+5.4 -> 5.7
F36: =AVERAGE(D35,D37) -> 7.405 | G36: =G32 -> 11.9 | H36: =G36 -> 11.9 | K36: =F36*H36 -> 88.1195
A37: 4 | B37: S”' | D37: 9.11
A38: 3-4 | J38: =SUM(J30:J37) -> -0.50704348 | K38: =SUM(K30:K37) -> 88.329043 | L38: =MIN(ABS(J38),ABS(K38)) -> 0.50704348 | M38: =SUM(K38,J38) -> 87.822 | N38: =N29+M38 -> 153.377
A39: 4 | B39: S'+S” | D39: =0.09+9.11 -> 9.2
F40: =AVERAGE(D39,D41) -> 11.475 | G40: =43-33.4 -> 9.6 | H40: =G40 -> 9.6 | K40: =F40*H40 -> 110.16
A41: 5 | B41: S'+S” | D41: =2.58+11.17 -> 13.75
A42: 4-5 | J42: =SUM(J39:J41) -> 0 | K42: =SUM(K39:K41) -> 110.16 | L42: =MIN(ABS(J42),ABS(K42)) -> 0 | M42: =SUM(K42,J42) -> 110.16 | N42: =N38+M42 -> 263.537
A43: 5 | B43: S' | D43: =2.58 -> 2.58
F44: =AVERAGE(D43,D45) -> 1.29 | I44: =D43/(C47+D43)*G45 -> 12.969355 | K44: =F44*I44 -> 16.730468
A45: L.P. | B45: -- | C45: 0 | D45: 0 | G45: =61.7-43 -> 18.7
E46: =AVERAGE(C45,C47) -> 0.57 | H46: =C47/(C47+D43)*G45 -> 5.7306452 | J46: =-E46*H46 -> -3.2664677
A47: 6 | B47: R | C47: =1.14 -> 1.14
A48: 5 | B48: S” | D48: =11.17 -> 11.17
F49: =AVERAGE(D48,D50) -> 7.155 | G49: =G45 -> 18.7 | K49: =F49*G49 -> 133.7985
A50: 6 | B50: S' | D50: 3.14
A51: 5-6 | J51: =SUM(J43:J50) -> -3.2664677 | K51: =SUM(K43:K50) -> 150.52897 | L51: =MIN(ABS(J51),ABS(K51)) -> 3.2664677 | M51: =SUM(K51,J51) -> 147.2625 | N51: =N42+M51 -> 410.7995
A52: 6 | B52: R | C52: =1.14 -> 1.14
E53: =AVERAGE(C52,C54) -> 2.645 | G53: =85-61.7 -> 23.3 | J53: =-E53*G53 -> -61.6285
A54: 7 | B54: R' | C54: =4.15 -> 4.15
A55: 6 | B55: S | D55: =3.14 -> 3.14
F56: =AVERAGE(D55,D57) -> 1.57 | H56: =+#REF! -> #REF! | I56: =D55/(C59+D55)*G57 -> 7.8753498 | K56: =F56*I56 -> 12.364299
A57: L.P. | B57: -- | C57: 0 | D57: 0 | G57: =G53 -> 23.3
E58: =AVERAGE(C57,C59) -> 3.075 | H58: =C59/(C59+D55)*G57 -> 15.42465 | J58: =-E58*H58 -> -47.430799
A59: 7 | B59: R” | C59: =6.15 -> 6.15
A60: 6-7 | J60: =SUM(J52:J59) -> -109.0593 | K60: =SUM(K52:K59) -> 12.364299 | L60: =MIN(ABS(J60),ABS(K60)) -> 12.364299 | M60: =SUM(K60,J60) -> -96.695 | N60: =N51+M60 -> 314.1045

Sheet Es tab 5
A1: ESEMPI
A3: 1) SOLIDO OMOGENEO DI RIPORTO
A6: n delle sezioni | B6: FIGURE COMPONENTI LE SEZIONI | C6: SUPERFICI | E6: SUPERFICI MEDIE | G6: DISTANZE (m) | J6: VOLUME FRA DUE SEZ. CONSECUTIVE (m3) | L6: VOLUME PALEGGIABILE | M6: VOLUME ECCEDENTE | N6: ECCEDENZA
C8: Riporto (m2) | D8: Sterro (m2) | E8: Riporto (m2) | F8: Sterro (m2) | G8: Dist. Totale (m) | H8: Dr (m) | I8: Ds (m) | J8: Riporto (m3) | K8: Sterro (m3)
L9: (m3) | M9: (m3) | N9: (m3)
A10: 4 | B10: R'+R” | C10: =14.28+9.14 -> 23.42
E11: =(C10+C12)/2 -> 27.24 | G11: =43-33.4 -> 9.6 | J11: =-E11*G11 -> -261.504
A12: 5 | B12: R | C12: 31.06
A13: 4-5 | J13: =SUM(J10:J12) -> -261.504 | K13: =SUM(K10:K12) -> 0 | L13: =MIN(ABS(J13),ABS(K13)) -> 0 | M13: =-SUM(K13,J13) -> 261.504
A15: 2) SOLIDO OMOGENEO DI STERRO
A28: n delle sezioni | B28: FIGURE COMPONENTI LE SEZIONI | C28: SUPERFICI | E28: SUPERFICI MEDIE | G28: DISTANZE (m) | J28: VOLUME FRA DUE SEZ. CONSECUTIVE (m3) | L28: VOLUME PALEGGIABILE | M28: VOLUME ECCEDENTE | N28: ECCEDENZA
C30: Riporto (m2) | D30: Sterro (m2) | E30: Riporto (m2) | F30: Sterro (m2) | G30: Dist. Totale (m) | H30: Dr (m) | I30: Ds (m) | J30: Riporto (m3) | K30: Sterro (m3)
L31: (m3) | M31: (m3) | N31: (m3)
A32: 8 | B32: S'+S'' | D32: =2.77+14.38 -> 17.15
F33: =(D32+D34)/2 -> 19.105 | G33: 15.74 | K33: =F33*G33 -> 300.7127
A34: 9 | B34: S'+S'' | D34: =7.44+13.62 -> 21.06
A35: 8-9 | J35: =SUM(J32:J34) -> 0 | K35: =SUM(K32:K34) -> 300.7127 | L35: =MIN(ABS(J35),ABS(K35)) -> 0 | M35: =SUM(K35,J35) -> 300.7127
A38: 3) SOLIDO DISOMOGENEO DI STERRO E RIPORTO
A51: n delle sezioni | B51: FIGURE COMPONENTI LE SEZIONI | C51: SUPERFICI | E51: SUPERFICI MEDIE | G51: DISTANZE (m) | J51: VOLUME FRA DUE SEZ. CONSECUTIVE (m3) | L51: VOLUME PALEGGIABILE | M51: VOLUME ECCEDENTE | N51: ECCEDENZA
C53: Riporto (m2) | D53: Sterro (m2) | E53: Riporto (m2) | F53: Sterro (m2) | G53: Dist. Totale (m) | H53: Dr (m) | I53: Ds (m) | J53: Riporto (m3) | K53: Sterro (m3)
L54: (m3) | M54: (m3) | N54: (m3)
A55: 15 | B55: S'+S'' | D55: =7.44+13.62 -> 21.06
F56: =D55/2 -> 10.53 | I56: =D55/(C59+D55)*G57 -> 11.310567 | K56: =F56*I56 -> 119.10027
A57: L.P. | B57: -- | G57: 14.78
E58: =C59/2 -> 3.23 | H58: =C59/(C59+D55)*G57 -> 3.4694331 | J58: =-E58*H58 -> -11.206269
A59: 16 | B59: R'+R'' | C59: =4.65+1.81 -> 6.46
A60: 15-16 | J60: =SUM(J48:J59) -> -11.206269 | K60: =SUM(K48:K59) -> 119.10027 | L60: =MIN(ABS(J60),ABS(K60)) -> 11.206269 | M60: =SUM(K60,J60) -> 107.894
A62: 4) SOLIDO DISOMOGENEO - SEZIONI A MEZZA COSTA
A76: n delle sezioni | B76: FIGURE COMPONENTI LE SEZIONI | C76: SUPERFICI | E76: SUPERFICI MEDIE | G76: DISTANZE (m) | J76: VOLUME FRA DUE SEZ. CONSECUTIVE (m3) | L76: VOLUME PALEGGIABILE | M76: VOLUME ECCEDENTE | N76: ECCEDENZA
C78: Riporto (m2) | D78: Sterro (m2) | E78: Riporto (m2) | F78: Sterro (m2) | G78: Dist. Totale (m) | H78: Dr (m) | I78: Ds (m) | J78: Riporto (m3) | K78: Sterro (m3)
L79: (m3) | M79: (m3) | N79: (m3)
A80: 18 | B80: R | C80: 4.18
E81: =AVERAGE(C80,C82) -> 5.97 | G81: =21.5-9.5 -> 12 | J81: =-E81*G81 -> -71.64
A82: 19 | B82: R' | C82: 7.76
A83: 18 | B83: S' | D83: 2.32
E84: =D83/2 -> 1.16 | I84: =D83*G85/(D83+C87) -> 7.424 | K84: =I84*E84 -> 8.61184
A85: L.P. | B85: -- | G85: =G81 -> 12
F86: =C87/2 -> 0.715 | H86: =C87*G85/(C87+D83) -> 4.576 | J86: =-H86*F86 -> -3.27184
A87: 19 | B87: R'' | C87: 1.43
A88: 18 | B88: S'' | D88: 11.05
F89: =AVERAGE(D88,D90) -> 8.51 | G89: =G85 -> 12 | K89: =F89*G89 -> 102.12
A90: 19 | B90: S | D90: 5.97
A91: 18-19 | J91: =SUM(J80:J90) -> -74.91184 | K91: =SUM(K80:K90) -> 110.73184 | L91: =MIN(ABS(J91),ABS(K91)) -> 74.91184 | M91: =SUM(K91,J91) -> 35.82
